BEGIN:VCALENDAR
VERSION:2.0
PRODID:-//Noticias Gourmet | Recetas | Tienda online - MOS Gourmet - ECPv6.13.2.1//NONSGML v1.0//EN
CALSCALE:GREGORIAN
METHOD:PUBLISH
X-WR-CALNAME:Noticias Gourmet | Recetas | Tienda online - MOS Gourmet
X-ORIGINAL-URL:https://mosgourmet.net
X-WR-CALDESC:Eventos para Noticias Gourmet | Recetas | Tienda online - MOS Gourmet
REFRESH-INTERVAL;VALUE=DURATION:PT1H
X-Robots-Tag:noindex
X-PUBLISHED-TTL:PT1H
BEGIN:VTIMEZONE
TZID:UTC
BEGIN:STANDARD
TZOFFSETFROM:+0000
TZOFFSETTO:+0000
TZNAME:UTC
DTSTART:20250101T000000
END:STANDARD
END:VTIMEZONE
BEGIN:VEVENT
DTSTART;VALUE=DATE:20250604
DTEND;VALUE=DATE:20250607
DTSTAMP:20260422T020618
CREATED:20250530T104106Z
LAST-MODIFIED:20250530T104434Z
UID:15203-1748995200-1749254399@mosgourmet.net
SUMMARY:Organic Food Iberia
DESCRIPTION:EcoAlimentaria Iberia 2025: el gran encuentro de la alimentación consciente\n \nDel 4 al 5 de junio de 2025\, IFEMA Madrid acogerá una nueva edición de EcoAlimentaria Iberia\, la feria internacional más influyente dedicada a los productos ecológicos y sostenibles de la Península Ibérica. Un evento que no solo pone el foco en la alimentación orgánica\, sino también en todo un estilo de vida comprometido con el bienestar y el planeta. \nConsolidada como una de las citas clave del sector ecológico europeo\, esta feria reúne a los principales agentes de la cadena alimentaria: productores\, distribuidores\, supermercados\, chefs\, responsables de compras y comercios especializados. \nMucho más que productos ecológicos\nLo que convierte a EcoAlimentaria Iberia en un evento imprescindible no es solo la calidad de su oferta\, sino la experiencia que propone: showcookings con chefs que apuestan por la cocina de cercanía\, catas de vinos y bebidas espirituosas ecológicas\, mesas redondas\, charlas inspiradoras y espacios de networking donde nacen sinergias reales entre profesionales. \nDesde vinos biodinámicos hasta cosmética natural\, textiles sostenibles o alternativas innovadoras en envases compostables\, el recorrido por la feria es una inmersión total en el futuro del consumo responsable. \nUna plataforma de negocio con impacto\nComo profesional involucrado en la cadena alimentaria\, tengo claro que este tipo de eventos no son solo una vitrina para exhibir productos\, sino una palanca de cambio. EcoAlimentaria Iberia se ha posicionado como un espacio estratégico para el lanzamiento de novedades\, la internacionalización de marcas y el fomento de alianzas empresariales duraderas con productos gourmet ecológicos. \nIniciativas como el B2B Lounge\, el VIP Hosted Buyers Program o la Zona Startups ofrecen herramientas concretas para que las marcas emergentes y consolidadas puedan conectar directamente con compradores clave y abrir nuevos mercados. \nEl valor de lo orgánico en un mundo en transformación\nEcoAlimentaria Iberia no es solo una feria: es un manifiesto. Un punto de encuentro donde la salud\, la sostenibilidad y la innovación dialogan desde el plato hasta el packaging. Una propuesta que refleja el crecimiento imparable del sector bio en España y Portugal\, y su papel como motor económico y cultural. \nCada edición reafirma que lo ecológico ha dejado de ser una tendencia para convertirse en una necesidad. Porque hablar de alimentos sostenibles es hablar de futuro\, de salud y de una nueva manera de entender lo que consumimos.
URL:https://mosgourmet.net/eventos/organic-food-iberia/
LOCATION:Organic Food Iberia\, Av. del Partenón\, 5\, Barajas\, Madrid\, Madrid\, 28042\, Spain
ATTACH;FMTTYPE=image/jpeg:https://mosgourmet.net/wp-content/uploads/2025/05/ORGANIC-FOOD2.jpg
END:VEVENT
END:VCALENDAR