BEGIN:VCALENDAR
VERSION:2.0
PRODID:-//Noticias Gourmet | Recetas | Tienda online - MOS Gourmet - ECPv6.13.2.1//NONSGML v1.0//EN
CALSCALE:GREGORIAN
METHOD:PUBLISH
X-WR-CALNAME:Noticias Gourmet | Recetas | Tienda online - MOS Gourmet
X-ORIGINAL-URL:https://mosgourmet.net
X-WR-CALDESC:Eventos para Noticias Gourmet | Recetas | Tienda online - MOS Gourmet
REFRESH-INTERVAL;VALUE=DURATION:PT1H
X-Robots-Tag:noindex
X-PUBLISHED-TTL:PT1H
BEGIN:VTIMEZONE
TZID:UTC
BEGIN:STANDARD
TZOFFSETFROM:+0000
TZOFFSETTO:+0000
TZNAME:UTC
DTSTART:20250101T000000
END:STANDARD
END:VTIMEZONE
BEGIN:VEVENT
DTSTART;TZID=UTC:20250407T100000
DTEND;TZID=UTC:20250410T200000
DTSTAMP:20260422T102902
CREATED:20250217T192447Z
LAST-MODIFIED:20250530T103031Z
UID:14934-1744020000-1744315200@mosgourmet.net
SUMMARY:38º Edición del Salón Gourmet 2025
DESCRIPTION:Salón Gourmets 2025: el gran escaparate de la excelencia\n \nDel 7 al 10 de abril de 2025\, Ifema Madrid volverá a convertirse en el epicentro de la alimentación de alta gama con una nueva edición del Salón Gourmets\, el mayor encuentro profesional de productos delicatessen en Europa. \nCon más de 37 ediciones a sus espaldas\, el evento regresa con más fuerza que nunca\, presentando lo más exquisito del sector agroalimentario: desde los sabores tradicionales más auténticos hasta las innovaciones más sorprendentes del momento. \nMucho más que una feria gourmet\nLo que convierte al Salón Gourmets en una cita imprescindible no es solo su dimensión\, sino su capacidad para reunir en un mismo espacio a productores\, chefs\, sumilleres\, distribuidores y amantes de la gastronomía gourmet. Durante cuatro días\, Madrid acogerá un sinfín de actividades: showcookings\, catas\, concursos\, campeonatos y premios que ponen en valor el producto y el talento que hay detrás de cada elaboración. \nComo creador de Mos Gourmet\, siempre he entendido que los eventos como este no son solo un escaparate\, sino un laboratorio de tendencias\, un punto de encuentro entre tradición\, creatividad y excelencia. \nUna oportunidad para profesionales\nEl Salón Gourmets está dirigido exclusivamente a profesionales del sector. Su enfoque comercial lo convierte en una plataforma única para el networking\, la presentación de novedades y el posicionamiento de marcas. Además\, iniciativas como el Hosted Buyers Program permiten generar conexiones clave con compradores internacionales. \nEspaña como referencia mundial en alta gastronomía\nAño tras año\, el Salón Gourmets demuestra que España no solo produce\, sino que lidera. Desde el jamón ibérico hasta los quesos artesanos\, los vinos de autor o las conservas premium\, este evento es una radiografía de lo mejor de nuestra despensa. Una despensa que habla de territorio\, cultura y futuro.
URL:https://mosgourmet.net/eventos/edicion-salon-gourmet/
LOCATION:Salón Gourmets\, Av. Partenón 5\, Madrid\, Madrid\, 28042\, España
ATTACH;FMTTYPE=image/webp:https://mosgourmet.net/wp-content/uploads/2025/02/salon-gourmets-2025.png.webp
END:VEVENT
END:VCALENDAR