BEGIN:VCALENDAR
VERSION:2.0
PRODID:-//Noticias Gourmet | Recetas | Tienda online - MOS Gourmet - ECPv6.13.2.1//NONSGML v1.0//EN
CALSCALE:GREGORIAN
METHOD:PUBLISH
X-ORIGINAL-URL:https://mosgourmet.net
X-WR-CALDESC:Eventos para Noticias Gourmet | Recetas | Tienda online - MOS Gourmet
REFRESH-INTERVAL;VALUE=DURATION:PT1H
X-Robots-Tag:noindex
X-PUBLISHED-TTL:PT1H
BEGIN:VTIMEZONE
TZID:UTC
BEGIN:STANDARD
TZOFFSETFROM:+0000
TZOFFSETTO:+0000
TZNAME:UTC
DTSTART:20250101T000000
END:STANDARD
END:VTIMEZONE
BEGIN:VEVENT
DTSTART;VALUE=DATE:20251125
DTEND;VALUE=DATE:20251126
DTSTAMP:20260421T223559
CREATED:20250530T112153Z
LAST-MODIFIED:20250530T112845Z
UID:15224-1764028800-1764115199@mosgourmet.net
SUMMARY:Gala de la Guía Michelin España 2026
DESCRIPTION:Málaga se viste de gala: la Guía MICHELIN 2026 celebrará su gran noche en el corazón de la Costa del Sol\nLa Gala Guía MICHELIN 2026 ya tiene fecha y escenario: el próximo 25 de noviembre\, Málaga será la ciudad anfitriona de uno de los eventos más esperados del calendario gastronómico internacional. El FYCMA – Palacio de Ferias y Congresos – acogerá por primera vez esta celebración de la excelencia culinaria\, donde se revelarán los nuevos restaurantes galardonados con las codiciadas Estrellas MICHELIN de la selección española. \nUn hito para Andalucía y un reconocimiento para Málaga\nAunque es la primera vez que Málaga acoge la gala\, se trata de la tercera edición celebrada en tierras andaluzas\, reflejo del peso creciente de la región en el panorama gastronómico europeo. Este evento no solo es una vitrina de talento y creatividad\, sino también una oportunidad para reforzar el vínculo entre tradición culinaria\, innovación y territorio. \nCoordinación estelar: Bardal y Skina\, referentes de la alta cocina malagueña\nLa cena de gala\, como es costumbre\, será uno de los momentos más esperados por chefs\, periodistas y personalidades del sector. En esta ocasión\, el menú correrá a cargo de dos grandes nombres de la alta cocina malagueña: \n\n\nBenito Gómez\, chef del restaurante Bardal en Ronda\, con dos Estrellas MICHELIN\, conocido por su visión contemporánea del recetario andaluz. \n\n\nMario Cachinero y Marcos Granda\, chef y director respectivamente del restaurante Skina en Marbella\, también con dos Estrellas\, símbolo de una cocina elegante y profundamente arraigada en el sabor local. \n\n\nAmbos equipos son embajadores del territorio y perfectos anfitriones de una gala que promete ser inolvidable. \nMálaga: más que sol y playa\, un destino gastronómico en alza\n \nCon sus 300 días de sol al año\, su mezcla única de historia\, arte y modernidad\, y una escena culinaria cada vez más vibrante\, Málaga se consolida como uno de los destinos más completos del sur de Europa. Desde los sabores marinos del espeto de sardinas o el ajoblanco\, hasta las reinterpretaciones creativas en sus restaurantes con estrella MICHELIN\, la provincia ha sabido conjugar tradición e innovación en la mesa. \nAdemás de Bardal y Skina\, la ciudad alberga propuestas como Blossom\, con una Estrella MICHELIN\, que encarna la nueva generación de cocineros locales comprometidos con la excelencia. \nLa Gala Guía MICHELIN 2026: donde brillan las estrellas\nLa ceremonia de entrega no solo revelará los nuevos restaurantes distinguidos con una\, dos o tres Estrellas MICHELIN\, sino que también premiará el compromiso sostenible a través de la Estrella Verde\, que reconoce a los establecimientos que priorizan prácticas responsables con el entorno y la comunidad. \nLa Gala Guía MICHELIN 2026 servirá\, además\, como punto de encuentro de la élite culinaria nacional e internacional\, en un contexto que combina la emoción de los galardones con el intercambio de ideas\, el reconocimiento al trabajo bien hecho y la promoción del turismo gastronómico. \nUna gala respaldada por grandes aliados\nEste evento cuenta con el impulso institucional de la Junta de Andalucía\, el Ayuntamiento de Málaga y la Diputación Provincial de Málaga\, además de la colaboración de empresas clave como Alimentos de España\, Makro\, Solán de Cabras\, CaixaBank\, Aquanaria y TheFork\, entre otros. Este respaldo evidencia el impacto económico\, cultural y turístico de la gala en el territorio. \nImagen de portada | Web oficial 
URL:https://mosgourmet.net/eventos/gala-de-la-guia-michelin-espana-2026/
LOCATION:Palacio congreso de Málaga\, Av. de José Ortega y Gasset\, 201\, Cruz de Humilladero\, Málaga\, Málaga\, 29006\, Spain
ATTACH;FMTTYPE=image/jpeg:https://mosgourmet.net/wp-content/uploads/2025/05/f0bce5666d1240f8969d9f5468b86f96_Gala_de_la_Gua_MICHELIN.jpg
END:VEVENT
END:VCALENDAR