BEGIN:VCALENDAR
VERSION:2.0
PRODID:-//Noticias Gourmet | Recetas | Tienda online - MOS Gourmet - ECPv6.13.2.1//NONSGML v1.0//EN
CALSCALE:GREGORIAN
METHOD:PUBLISH
X-WR-CALNAME:Noticias Gourmet | Recetas | Tienda online - MOS Gourmet
X-ORIGINAL-URL:https://mosgourmet.net
X-WR-CALDESC:Eventos para Noticias Gourmet | Recetas | Tienda online - MOS Gourmet
REFRESH-INTERVAL;VALUE=DURATION:PT1H
X-Robots-Tag:noindex
X-PUBLISHED-TTL:PT1H
BEGIN:VTIMEZONE
TZID:UTC
BEGIN:STANDARD
TZOFFSETFROM:+0000
TZOFFSETTO:+0000
TZNAME:UTC
DTSTART:20250101T000000
END:STANDARD
END:VTIMEZONE
BEGIN:VEVENT
DTSTART;VALUE=DATE:20250930
DTEND;VALUE=DATE:20251003
DTSTAMP:20260422T021057
CREATED:20250530T105136Z
LAST-MODIFIED:20250530T105511Z
UID:15210-1759190400-1759449599@mosgourmet.net
SUMMARY:Fruit Attraction 2025
DESCRIPTION:Fruit Attraction 2025: el corazón global del negocio hortofrutícola\n \nDel 30 de septiembre al 2 de octubre\, IFEMA Madrid volverá a convertirse en el punto neurálgico para todos los profesionales del sector de frutas y hortalizas con la celebración de Fruit Attraction 2025\, uno de los encuentros internacionales más estratégicos y efectivos del calendario agroalimentario. \nCon más de 2.200 empresas expositoras y la presencia de visitantes de 145 países\, esta feria ha dejado de ser un evento para convertirse en una plataforma comercial de alto impacto que conecta oferta y demanda justo cuando el mercado comienza a planificar sus campañas. \nMucho más que una feria de frutas y hortalizas\nLo que diferencia a Fruit Attraction de cualquier otro evento es su visión integral del negocio. Durante tres días\, Madrid acoge un ecosistema único donde confluyen innovación\, comercialización\, conocimiento y visibilidad. Desde el pequeño productor hasta el gran distribuidor internacional\, todos encuentran aquí un espacio para crecer\, aprender y cerrar acuerdos clave. \nEntre las grandes novedades de esta edición\, destacan la ampliación del recinto con los pabellones 12 y 14\, una nueva distribución pensada para mejorar el flujo de visitantes y potenciar aún más la experiencia del expositor. \nUn escaparate de innovación al servicio del mercado\nHe participado en múltiples ferias a lo largo de mi carrera\, pero pocas como Fruit Attraction combinan con tanta eficacia la exposición de producto con la creación de oportunidades reales de negocio. \nLos espacios como Factoría Chef\, donde los productos se presentan a través de showcookings en directo\, o los Foros Fruit Next\, que dan voz a proyectos disruptivos del sector\, son solo una muestra del carácter dinámico de esta feria. También destacan los Innovation Hub Awards\, donde se premian las ideas más rompedoras\, y el ya emblemático galardón al Mejor Stand\, que valora el diseño\, la experiencia y la creatividad de cada exposición. \nUn evento con visión global\nEste 2025\, México y Malasia serán los países importadores invitados\, reforzando la proyección internacional del evento y ampliando las posibilidades de networking fuera de Europa. Además\, el producto estrella será el tomate\, protagonista del programa Fresh&Star\, que pondrá el foco en su producción\, exportación y tendencias de consumo. \nFruit Attraction no solo dinamiza el sector hortofrutícola español\, sino que lo sitúa como referente en el escenario global. Es el lugar donde se define el futuro de la cadena de valor agroalimentaria\, desde el campo hasta el punto de venta.
URL:https://mosgourmet.net/eventos/fruit-attraction-2025/
LOCATION:Fruit Attraction\, Madrid\, Madrid\, Spain
ATTACH;FMTTYPE=image/jpeg:https://mosgourmet.net/wp-content/uploads/2025/05/fruit-atracctions.jpg
END:VEVENT
END:VCALENDAR